BEGIN:VCALENDAR
VERSION:2.0
PRODID:-// - ECPv6.15.20//NONSGML v1.0//EN
CALSCALE:GREGORIAN
METHOD:PUBLISH
X-ORIGINAL-URL:https://pfi-deutschland.de
X-WR-CALDESC:Veranstaltungen für 
REFRESH-INTERVAL;VALUE=DURATION:PT1H
X-Robots-Tag:noindex
X-PUBLISHED-TTL:PT1H
BEGIN:VTIMEZONE
TZID:Europe/Berlin
BEGIN:DAYLIGHT
TZOFFSETFROM:+0100
TZOFFSETTO:+0200
TZNAME:CEST
DTSTART:20240331T010000
END:DAYLIGHT
BEGIN:STANDARD
TZOFFSETFROM:+0200
TZOFFSETTO:+0100
TZNAME:CET
DTSTART:20241027T010000
END:STANDARD
BEGIN:DAYLIGHT
TZOFFSETFROM:+0100
TZOFFSETTO:+0200
TZNAME:CEST
DTSTART:20250330T010000
END:DAYLIGHT
BEGIN:STANDARD
TZOFFSETFROM:+0200
TZOFFSETTO:+0100
TZNAME:CET
DTSTART:20251026T010000
END:STANDARD
BEGIN:DAYLIGHT
TZOFFSETFROM:+0100
TZOFFSETTO:+0200
TZNAME:CEST
DTSTART:20260329T010000
END:DAYLIGHT
BEGIN:STANDARD
TZOFFSETFROM:+0200
TZOFFSETTO:+0100
TZNAME:CET
DTSTART:20261025T010000
END:STANDARD
END:VTIMEZONE
BEGIN:VEVENT
DTSTART;TZID=Europe/Berlin:20250404T190000
DTEND;TZID=Europe/Berlin:20250404T233000
DTSTAMP:20260421T135051
CREATED:20250120T084735Z
LAST-MODIFIED:20250508T125610Z
UID:6433-1743793200-1743809400@pfi-deutschland.de
SUMMARY:PFI Niedersachsenstammtisch online via Zoom April 2025
DESCRIPTION:Nicht nur für Mitglieder und nicht nur für Niedersachsen \, bei uns ist jeder willkommen ! Wir freuen uns immer über neue Gesichter ! Teilnehmen könnt ihr mit folgendem Link : https://us02web.zoom.us/j/86288258665?pwd=u1YBphUozEOZJ5syIysxXYkeyqT1yf.1 Meeting-ID: 862 8825 8665 Kenncode: 851958
URL:https://pfi-deutschland.de/event/pfi-niedersachsenstammtisch-online-via-zoom-april-2025/
LOCATION:Zoom
CATEGORIES:Online,Stammtisch,Ungezwungen
ATTACH;FMTTYPE=image/jpeg:https://pfi-deutschland.de/wp-content/uploads/2023/01/Bild5.jpg
ORGANIZER;CN="PFI RCs Niedersachsen":MAILTO:mailto:niedersachsen@pfi-deutschland.de
END:VEVENT
END:VCALENDAR