BEGIN:VCALENDAR
VERSION:2.0
PRODID:-// - ECPv6.15.20//NONSGML v1.0//EN
CALSCALE:GREGORIAN
METHOD:PUBLISH
X-ORIGINAL-URL:https://pfi-deutschland.de
X-WR-CALDESC:Veranstaltungen für 
REFRESH-INTERVAL;VALUE=DURATION:PT1H
X-Robots-Tag:noindex
X-PUBLISHED-TTL:PT1H
BEGIN:VTIMEZONE
TZID:Europe/Berlin
BEGIN:DAYLIGHT
TZOFFSETFROM:+0100
TZOFFSETTO:+0200
TZNAME:CEST
DTSTART:20230326T010000
END:DAYLIGHT
BEGIN:STANDARD
TZOFFSETFROM:+0200
TZOFFSETTO:+0100
TZNAME:CET
DTSTART:20231029T010000
END:STANDARD
BEGIN:DAYLIGHT
TZOFFSETFROM:+0100
TZOFFSETTO:+0200
TZNAME:CEST
DTSTART:20240331T010000
END:DAYLIGHT
BEGIN:STANDARD
TZOFFSETFROM:+0200
TZOFFSETTO:+0100
TZNAME:CET
DTSTART:20241027T010000
END:STANDARD
BEGIN:DAYLIGHT
TZOFFSETFROM:+0100
TZOFFSETTO:+0200
TZNAME:CEST
DTSTART:20250330T010000
END:DAYLIGHT
BEGIN:STANDARD
TZOFFSETFROM:+0200
TZOFFSETTO:+0100
TZNAME:CET
DTSTART:20251026T010000
END:STANDARD
END:VTIMEZONE
BEGIN:VEVENT
DTSTART;TZID=Europe/Berlin:20241122T190000
DTEND;TZID=Europe/Berlin:20241122T233000
DTSTAMP:20260421T214558
CREATED:20231204T150130Z
LAST-MODIFIED:20241011T183038Z
UID:5614-1732302000-1732318200@pfi-deutschland.de
SUMMARY:PFI Niedersachsenstammtisch online via Zoom November 2024
DESCRIPTION:Nicht nur für Mitglieder und nicht nur für Niedersachsen \, bei uns ist jeder willkommen ! Wir freuen uns immer über neue Gesichter ! Teilnehmen könnt ihr mit folgendem Link : https://us02web.zoom.us/j/86288258665?pwd=u1YBphUozEOZJ5syIysxXYkeyqT1yf.1 Meeting-ID: 862 8825 8665 Kenncode: 851958
URL:https://pfi-deutschland.de/event/pfi-niedersachsenstammtisch-online-via-zoom-november-2024/
LOCATION:Zoom
CATEGORIES:Online,Stammtisch,Ungezwungen
ATTACH;FMTTYPE=image/jpeg:https://pfi-deutschland.de/wp-content/uploads/2023/01/Bild5.jpg
ORGANIZER;CN="PFI RCs Niedersachsen":MAILTO:mailto:niedersachsen@pfi-deutschland.de
END:VEVENT
BEGIN:VEVENT
DTSTART;TZID=Europe/Berlin:20241129T190000
DTEND;TZID=Europe/Berlin:20241129T233000
DTSTAMP:20260421T214558
CREATED:20231204T143534Z
LAST-MODIFIED:20231204T143534Z
UID:5590-1732906800-1732923000@pfi-deutschland.de
SUMMARY:PFI virtuelles Lagerfeuer November 2024
DESCRIPTION:Unser virtuelles Lagerfeuer\, nicht nur für Mitglieder! Bist du interessiert und möchtest uns kennenlernen? Dann triff uns auf Zoom zum gemütlichen Beisammensein. https://us06web.zoom.us/j/88605139403?pwd=MWpZWDA5Y3hmZ2lFNi9SRVdlZHN4dz09
URL:https://pfi-deutschland.de/event/pfi-virtuelles-lagerfeuer-november-2024/
LOCATION:Zoom
CATEGORIES:Online,Stammtisch,Ungezwungen
ATTACH;FMTTYPE=image/png:https://pfi-deutschland.de/wp-content/uploads/2022/06/IMG_2613-e1655056709740.png
ORGANIZER;CN="AG Lagerfeuer":MAILTO:tyra@pfi-deutschland.de
END:VEVENT
END:VCALENDAR