BEGIN:VCALENDAR
VERSION:2.0
PRODID:-// - ECPv6.15.20//NONSGML v1.0//EN
CALSCALE:GREGORIAN
METHOD:PUBLISH
X-ORIGINAL-URL:https://pfi-deutschland.de
X-WR-CALDESC:Veranstaltungen für 
REFRESH-INTERVAL;VALUE=DURATION:PT1H
X-Robots-Tag:noindex
X-PUBLISHED-TTL:PT1H
BEGIN:VTIMEZONE
TZID:Europe/Berlin
BEGIN:DAYLIGHT
TZOFFSETFROM:+0100
TZOFFSETTO:+0200
TZNAME:CEST
DTSTART:20240331T010000
END:DAYLIGHT
BEGIN:STANDARD
TZOFFSETFROM:+0200
TZOFFSETTO:+0100
TZNAME:CET
DTSTART:20241027T010000
END:STANDARD
BEGIN:DAYLIGHT
TZOFFSETFROM:+0100
TZOFFSETTO:+0200
TZNAME:CEST
DTSTART:20250330T010000
END:DAYLIGHT
BEGIN:STANDARD
TZOFFSETFROM:+0200
TZOFFSETTO:+0100
TZNAME:CET
DTSTART:20251026T010000
END:STANDARD
BEGIN:DAYLIGHT
TZOFFSETFROM:+0100
TZOFFSETTO:+0200
TZNAME:CEST
DTSTART:20260329T010000
END:DAYLIGHT
BEGIN:STANDARD
TZOFFSETFROM:+0200
TZOFFSETTO:+0100
TZNAME:CET
DTSTART:20261025T010000
END:STANDARD
BEGIN:DAYLIGHT
TZOFFSETFROM:+0100
TZOFFSETTO:+0200
TZNAME:CEST
DTSTART:20270328T010000
END:DAYLIGHT
BEGIN:STANDARD
TZOFFSETFROM:+0200
TZOFFSETTO:+0100
TZNAME:CET
DTSTART:20271031T010000
END:STANDARD
END:VTIMEZONE
BEGIN:VEVENT
DTSTART;TZID=Europe/Berlin:20251205T190000
DTEND;TZID=Europe/Berlin:20251205T233000
DTSTAMP:20260420T122241
CREATED:20250120T090412Z
LAST-MODIFIED:20250508T125713Z
UID:6449-1764961200-1764977400@pfi-deutschland.de
SUMMARY:PFI Niedersachsenstammtisch online via Zoom Dezember 2025
DESCRIPTION:Nicht nur für Mitglieder und nicht nur für Niedersachsen \, bei uns ist jeder willkommen ! Wir freuen uns immer über neue Gesichter ! Teilnehmen könnt ihr mit folgendem Link : https://us02web.zoom.us/j/85818329933?pwd=QCuHULaxaF4lTjvzU3EsboAqnxStcJ.1
URL:https://pfi-deutschland.de/event/pfi-niedersachsenstammtisch-online-via-zoom-dezember-2025/
LOCATION:Zoom
CATEGORIES:Online,Stammtisch,Ungezwungen
ATTACH;FMTTYPE=image/jpeg:https://pfi-deutschland.de/wp-content/uploads/2023/01/Bild5.jpg
ORGANIZER;CN="PFI RCs Niedersachsen":MAILTO:mailto:niedersachsen@pfi-deutschland.de
END:VEVENT
BEGIN:VEVENT
DTSTART;TZID=Europe/Berlin:20251212T180000
DTEND;TZID=Europe/Berlin:20251212T230000
DTSTAMP:20260420T122241
CREATED:20250120T080846Z
LAST-MODIFIED:20250120T080846Z
UID:6427-1765562400-1765580400@pfi-deutschland.de
SUMMARY:PFI Stammtisch Hamburg Dezember 2025
DESCRIPTION:Das Treffen “paganes.hamburg” dient der Vernetzung von Gleichgesinnten\, die die vorchristliche Naturspiritualität Europas (Paganismus) leben. Also Hexen\, Druiden\, Schamanen\, o.ä.\nUnsere gemeinsame Basis sind acht Jahreskreisfeste und vier Elemente\, die Verbundenheit zur Natur und zur feinstofflichen Welt. Doch auch Historiker u.ä. sind willkommen\, denn gerade die Vielfalt der paganen Strömungen sorgt für interessante Gespräche. \nEtwa 8 Mal im Jahr wird ein kleines Treffen organisiert\, wo sich Interessierte kennenlernen und austauschen können. Meist ist es ein Freitag ab 18 Uhr. Der genaue Ort richtet sich nach den Anmeldungen und wird den Teilnehmern ein paar Tage vorher mitgeteilt. In jedem Fall ist der Ort gut mit öffentlichen Verkehrsmitteln zu erreichen und im Stadtgebiet Hamburg. \nBei Interesse melde dich bitte bei Daniela (Mail: hamburg@pfi-deutschland.de\, paganes.hamburg@gmail.com\, facebook oder Instagram @paganes.hamburg)
URL:https://pfi-deutschland.de/event/pfi-stammtisch-hamburg-dezember-2025/
LOCATION:Hamburg\, Hamburg\, Germany
CATEGORIES:Stammtisch,Ungezwungen
END:VEVENT
BEGIN:VEVENT
DTSTART;TZID=Europe/Berlin:20251212T190000
DTEND;TZID=Europe/Berlin:20251212T210000
DTSTAMP:20260420T122241
CREATED:20251109T180215Z
LAST-MODIFIED:20251109T180215Z
UID:7168-1765566000-1765573200@pfi-deutschland.de
SUMMARY:Stammtisch Schleswig-Holstein
DESCRIPTION:Am 12.12.2025 um 19.00 startet unser SH-Online-Stammtisch. \nTeilnehmen können gerne auch Gäste und Interessierte über folgenden Link: \nhttps://us06web.zoom.us/j/84341867382?pwd=GOXF1xOk3Y6dyMElKDLYKmNwonwpu8.1 \nMeeting-ID: 843 4186 7382 \n 
URL:https://pfi-deutschland.de/event/stammtisch-schleswig-holstein-2/
LOCATION:Zoom
CATEGORIES:Stammtisch
ORGANIZER;CN="PFI Schleswig-Holstein":MAILTO:schleswig-holstein@pfi-deutschland.de
END:VEVENT
BEGIN:VEVENT
DTSTART;TZID=Europe/Berlin:20251226T190000
DTEND;TZID=Europe/Berlin:20251226T233000
DTSTAMP:20260420T122241
CREATED:20250120T092922Z
LAST-MODIFIED:20250120T092922Z
UID:6469-1766775600-1766791800@pfi-deutschland.de
SUMMARY:Lagerfeuer via Zoom
DESCRIPTION:Wir treffen uns\, unabhängig von welcher Tradition oder welchem Pfad wir folgen: zum Austausch. Unser Lagerfeuer soll nicht nur für Mitglieder sein\, sondern auch für Interessierte\, die uns näher kennenlernen wollen. Also wenn ihr jemanden kennt\, der einen Blick in unser Vereinsleben haben möchte\, dann bringt ihn mit! Unsere nächsten Lagerfeuer finden ihr unter diesem Link : \nhttps://us06web.zoom.us/j/88605139403?pwd=MWpZWDA5Y3hmZ2lFNi9SRVdlZHN4dz09 \nMeeting-ID: 886 0513 9403 \nKenncode: 233914
URL:https://pfi-deutschland.de/event/lagerfeuer-via-zoom-10/
LOCATION:Zoom
CATEGORIES:Online,Stammtisch,Ungezwungen
ATTACH;FMTTYPE=image/png:https://pfi-deutschland.de/wp-content/uploads/2022/06/IMG_2613-e1655056709740.png
ORGANIZER;CN="AG Lagerfeuer":MAILTO:tyra@pfi-deutschland.de
END:VEVENT
BEGIN:VEVENT
DTSTART;TZID=Europe/Berlin:20251229T150000
DTEND;TZID=Europe/Berlin:20260102T150000
DTSTAMP:20260420T122241
CREATED:20251019T172115Z
LAST-MODIFIED:20251019T172115Z
UID:7136-1767020400-1767366000@pfi-deutschland.de
SUMMARY:Übergangszeiten im Haus Lebensbogen
DESCRIPTION:Gemeinsam auf dem Weg in ein neues Jahr – bewusst innehalten und erleben\n29.12.2025 – 02.01.2026\nSilvester im Lebensbogen\nÜbergangszeiten sind eine Einladung\, gegenwärtig zu sein. Dann können wir den Zwischenraum zwischen Altem und Neuen bewusst durchschreiten und uns neu ausrichten. Dabei begegnen wir\nuns im Innen und im Außen. \nDie Tage begleiten uns mit Zeit für Klang\, Bewegung\, Schwellengang und Feuerritual\, TaKeTiNa®-Rhythmus-Reisen\, Spaziergängen\, Raum für Vor- und Rückschau\, für Begegnung\, Austausch\, Stille\,\nZusammen-Schwingen und Einander-Hören.  \nZeit für sich und Raum für etwas Größeres\, Tragendes zu erleben\, dazu laden wir euch rund um den Jahreswechsel ein. Darüberhinaus könnt ihr unsere Gemeinschaft Lebensbogen an den Helfensteinen kennenlernen und unseren Wirkraum erleben. Vielleicht gibt euch das neue Impulse für euer zukünftiges Leben – in Verbundenheit mit der Idee einer gelebten Utopie. \nAlle weiteren Infos findet ihr auf unserer Webseite. \nAnmeldung bis Nikolaus 6.12.2025 unter:\nkontakt@tagungshaus-lebensbogen.de\nwww.lebensbogen.org/veranstaltungen\nOrt: Tagungshaus Lebensbogen\, Auf dem Dörnberg 13\, 34289 Zierenberg
URL:https://pfi-deutschland.de/event/uebergangszeiten-im-haus-lebensbogen/
LOCATION:Tagungshaus Lebensbogen\, Auf dem Dörnberg 13\, Zierenberg\, Hessen\, 34289\, Germany
CATEGORIES:Externe
ATTACH;FMTTYPE=image/jpeg:https://pfi-deutschland.de/wp-content/uploads/2025/10/Schnee4_Park_mit_bunten_Fahnen_klein.jpg
END:VEVENT
END:VCALENDAR